BEGIN:VCALENDAR
VERSION:2.0
PRODID:-//Janice Coyle - ECPv6.15.11//NONSGML v1.0//EN
CALSCALE:GREGORIAN
METHOD:PUBLISH
X-WR-CALNAME:Janice Coyle
X-ORIGINAL-URL:https://janicecoyle.org
X-WR-CALDESC:Events for Janice Coyle
REFRESH-INTERVAL;VALUE=DURATION:PT1H
X-Robots-Tag:noindex
X-PUBLISHED-TTL:PT1H
BEGIN:VTIMEZONE
TZID:America/New_York
BEGIN:DAYLIGHT
TZOFFSETFROM:-0500
TZOFFSETTO:-0400
TZNAME:EDT
DTSTART:20200308T070000
END:DAYLIGHT
BEGIN:STANDARD
TZOFFSETFROM:-0400
TZOFFSETTO:-0500
TZNAME:EST
DTSTART:20201101T060000
END:STANDARD
BEGIN:DAYLIGHT
TZOFFSETFROM:-0500
TZOFFSETTO:-0400
TZNAME:EDT
DTSTART:20210314T070000
END:DAYLIGHT
BEGIN:STANDARD
TZOFFSETFROM:-0400
TZOFFSETTO:-0500
TZNAME:EST
DTSTART:20211107T060000
END:STANDARD
BEGIN:DAYLIGHT
TZOFFSETFROM:-0500
TZOFFSETTO:-0400
TZNAME:EDT
DTSTART:20220313T070000
END:DAYLIGHT
BEGIN:STANDARD
TZOFFSETFROM:-0400
TZOFFSETTO:-0500
TZNAME:EST
DTSTART:20221106T060000
END:STANDARD
BEGIN:DAYLIGHT
TZOFFSETFROM:-0500
TZOFFSETTO:-0400
TZNAME:EDT
DTSTART:20230312T070000
END:DAYLIGHT
BEGIN:STANDARD
TZOFFSETFROM:-0400
TZOFFSETTO:-0500
TZNAME:EST
DTSTART:20231105T060000
END:STANDARD
END:VTIMEZONE
BEGIN:VEVENT
DTSTART;TZID=America/New_York:20221206T130000
DTEND;TZID=America/New_York:20221206T150000
DTSTAMP:20260423T185609
CREATED:20221118T174505Z
LAST-MODIFIED:20221122T003132Z
UID:3213-1670331600-1670338800@janicecoyle.org
SUMMARY:Seven Days of Rest & Return to Essence – Dr. Shelley Ostroff
DESCRIPTION:Our guest\, Shelley Ostroff\, PhD\, will be joining us live from Israel. She will be introducing us to 7 Days of Rest\, an annual event beginning on the first day of each new year and continuing for 7 days. This year the theme is 7 Days of Rest & Return to Essence.  As described below\, people from around the world will unite in seeding the New Year with a sacred field of intention and action towards a thriving world for all of Life. This is in beautiful alignment with the intentions and visioning of the New Earth Visioning Project as well as the  Eco governance initiative Shelley has founded. \n From the 7 Days of Rest website:\n 7 Days of Rest\, January 1-7\, is an annual\, open co-creative event dedicated to the healing and replenishment of the planet and all its inhabitants. All are invited to enjoy the vast array of offerings\, including wisdom teachings\, meditations\, music\, inspirations and more\, that are generously offered by the global community. \nDuring the first 7 Days of 2023\, we unite in seeding the New Year with a sacred field of intention and action towards a thriving world for all of Life.​ Through rest\, deep listening\, wisdom sharing\, ceremony\, and co-creative offerings\, we amplify the emerging global culture of peace\, health\, cooperation and wise governance.​ \n7 Days of Rest & Return to Essence offers a shared sacred space for consciously attuning to the nature of essence and the essence of Nature. Shedding the noise and distractions\, we slow down and listen to the whispers of our heart’s calling. As we follow the path of essence\, we remember our original encoding and restore our experience of kinship and communion with all of Creation. \n​Together we seed the New Year with clarity\, courage and commitment to live lightly and lovingly\, cultivating that which is most essential for the thriving of all Life. \n Our Guest: \nShelley Ostroff (PhD) is an artist\, mystic\, writer\, planetary activist and leadership consultant. She has written a number of books that include her poetry and art\, and thoughtful discourses on the current state of the world and how we can bring forth a new world by working together in harmony with nature. Driven by the global suffering humans are causing each other\, animals and the planet\, she has spent many years learning about and developing integrative pathways for local and global healing and vitality.  She is the founder and co-creator of the global Eco-Governance movement\, among other important endeavors. \nLearn more from these websites:\nhttps://www.7days-of-rest.org/ \nhttps://www.codes.earth/ \nhttps://www.togetherincreation.org/ \n  \nNote:  To join our meetings\, please SUBSCRIBE to our website. You will be added to our mailing list and get the event announcements\, Zoom links to join the meetings and updates.   \nALL EVENT TIMES ARE LISTED AS EASTERN TIME USA.  \n 
URL:https://janicecoyle.org/events/seven-days-of-rest-return-to-essence-dr-shelley-ostroff/
LOCATION:Zoom Call
CATEGORIES:Connecting with higher sources,Healing,New Earth Visioning Project
ATTACH;FMTTYPE=image/jpeg:https://janicecoyle.org/wp-content/uploads/shelley-photo-450-450.jpg
END:VEVENT
BEGIN:VEVENT
DTSTART;TZID=America/New_York:20221018T190000
DTEND;TZID=America/New_York:20221018T210000
DTSTAMP:20260423T185609
CREATED:20220815T170422Z
LAST-MODIFIED:20220815T170422Z
UID:2976-1666119600-1666126800@janicecoyle.org
SUMMARY:A Beautiful Discussion – All Participants
DESCRIPTION:This meeting will be about US – everyone present.  Janice Coyle will offer a short presentation highlighting her insights and experiences during the past few months and the incredible on-going presence of light amidst the chaos we all can see. \nWe will all join in to inspire each other to hold the high watch. You will be encouraged to share how you are doing these days and offer to us your suggestions on how you get back to a happier presence. What inspires you? Share with us any Points of Light you have discovered.  We will also  again look within to find our gifts\, hopes and most desired vision of ourselves and the world. \nThis meeting will be a sharing of love and support. Bring your heart and soul to this one. A beautiful video will help us along with an even more lovely meditation.  We are in the final stages of global transformation – let’s reach out and help each other now. \n 
URL:https://janicecoyle.org/events/a-beautiful-discussion-all-participants/
CATEGORIES:Connecting with higher sources,Healing
ATTACH;FMTTYPE=image/jpeg:https://janicecoyle.org/wp-content/uploads/hands-reaching-out-2-467-447.jpg
END:VEVENT
BEGIN:VEVENT
DTSTART;TZID=America/New_York:20221004T190000
DTEND;TZID=America/New_York:20221004T210000
DTSTAMP:20260423T185609
CREATED:20220814T045024Z
LAST-MODIFIED:20220815T161205Z
UID:2948-1664910000-1664917200@janicecoyle.org
SUMMARY:The Extraordinary Evolving Human & Next Octave of Love - Antonia Albano
DESCRIPTION:Be prepared to be blown away by this interview with Antonia Albano who will be joining us live from her retreat center near Lexington Virginia located in the beautiful southern Shenandoah Valley. \nAntonia is a mystic visionary\, retreat center owner/manager\, facilitating workshops around the world on the raising of human consciousness since the early 1990s. She will be present with us answering your questions and offering visual information to back up her amazing discoveries. \nAnd what are her discoveries?  She has introduced to the world  new higher vibrational geometries.  The very geometry that creates all form is undergoing a transformation.  Antonia has had a life-long fascination with both how the un-manifest is made manifest\, and how the un-manifest is integral to our existence on this planet.  At our meeting\, Antonia will explain how the actual geometries of manifested form are changing as we proceed to higher “octaves” of resonance.  These new sacred geometries she has been privileged to bring forth since 2004\, are very high frequencies  here on earth for the first time!  They come from a more advanced civilization and  have the ability to change our cellular makeup and take us to the next “octave” of love. \nAntonia’s findings give us a new view of our potential as human beings with expanded consciousness and amazing capabilities beyond what we now know. She will also highlight the role we play as co-creators with the evolving Mother Earth. \nAntonia has so much to share with us – so many amazing accomplishments and current creations including a new form of labyrinth that has had great healing and uplifting effects on people. \nFor more information about the work of Antonia Albano\, visit her websites: \nwww.antoniaalbano.com HERE  \nwww.celebrationoflove2022.com  www.southRiverHighlands.com\, www.HeartstoneLodge.com \nNote: If you wish to join our meeting\, you must Subscribe  HERE to receive our newsletters and updates\, and get the zoom links to join our meetings. \nAll meeting times listed are Eastern Time Zone\, USA \n  \n  \n 
URL:https://janicecoyle.org/events/the-extraordinary-evolving-human-next-octave-of-love-antonia-albano/
LOCATION:Zoom Call
CATEGORIES:Connecting with higher sources,New Earth Visioning Project
ATTACH;FMTTYPE=image/jpeg:https://janicecoyle.org/wp-content/uploads/Antonia-Albano-449-449.jpg
END:VEVENT
BEGIN:VEVENT
DTSTART;TZID=America/New_York:20220920T190000
DTEND;TZID=America/New_York:20220920T210000
DTSTAMP:20260423T185609
CREATED:20220814T031432Z
LAST-MODIFIED:20220815T161647Z
UID:2930-1663700400-1663707600@janicecoyle.org
SUMMARY:Introducing the Infinity Wave -  Hope Fitzgerald
DESCRIPTION:We are excited to introduce to you another remarkable Point of Light.  Hope Fitzgerald will join us live from Massachusetts. She has been a dedicated seeker of truth\, healing and wisdom. For 25 years her expertise in spiritual dowsing has helped people transform their lives. \nIn 2010\, a series of visions introduced her to The Infinity Wave\, a simple yet powerful enlightenment tool.  This wave is a 10th dimensional energy of Love and Compassion and was  sent to help us evolve in times of strife. She was then directed\, through dowsing\,  to launch a series of Wave Energy Evolution workshops  comprised of powerful channeled practices for those seeking to make an evolutionary leap and  miraculous healing breakthroughs.  In 2011\, she created the Wave Energy Center for Conscious Evolution dedicated to the positive and expansive development of the individual\, the community and the Earth. \nOur interview will introduce to you The Infinity Wave – this gift of high dimensional energy that has been washing over the planet since 2011 and can be a tool for healing\, upliftment and spiritual evolution. \nWe will also touch on the other-worldly beings that have assisted Hope for many years and her amazing story that led to this discovery. She will explain how her skill in spiritual dowsing has been an important aid in her mission to introduce this remarkable energetic tool to the world. \nHope welcomes your questions and discussion and has offered to lead us in a meditation that will give us the Infinity Wave experience. \nSome quotes from Hope’s writings: \nThere is a symbol\, a sacred geometry\, that can instantaneously transform your life called the Infinity Wave. \nHow does it work?  “Wave energy is the movement of a higher dimensional frequency\, which breaks up and dissolves duality\, clearing the way for a co-creative dance with life.  Think of it as a simple yet powerful tool to connect to your higher self\, others and the Earth – the Infinite You. \nFor more information about the work of Hope Fitzgerald\, visit her websites: www.we-infinity  and  https://www.spreadinfinitehope.com/ \n  \nNote: If you wish to join our meeting\, you must Subscribe  HERE to receive our newsletters and updates\, and get the zoom links to join our meetings. \nAll meeting times listed are Eastern Time Zone\, USA \n 
URL:https://janicecoyle.org/events/introducing-the-infinity-wave-hope-fitzgerald/
LOCATION:Zoom Call
CATEGORIES:Connecting with higher sources,Healing
ATTACH;FMTTYPE=image/jpeg:https://janicecoyle.org/wp-content/uploads/Hope-Fitzgerald-450-452.jpg
END:VEVENT
BEGIN:VEVENT
DTSTART;TZID=America/New_York:20211102T190000
DTEND;TZID=America/New_York:20211102T210000
DTSTAMP:20260423T185609
CREATED:20211004T220332Z
LAST-MODIFIED:20211102T135857Z
UID:2428-1635879600-1635886800@janicecoyle.org
SUMMARY:Alternate Realities and Living In Fifth Dimensional Possibility - Rebecca Whitecotton
DESCRIPTION:Explore the possibilities of fifth dimensional consciousness\, where alternate versions of you\, unconditional love\, and freedom from judgement all intertwine to shape a new way of looking at physical life in the third dimension. By healing regrets about the road not taken\, we transform how we look at life’s choices and lift each other higher as we engage in community from a place of Dimensional Wholeness. \nTogether we will: \n\nExplore theories of the multiverse and parallel realities.\nExperience a meditation to connect with an alternate version of yourself in a parallel timeline.\nDiscuss how an understanding of alternate realities brings a deeper understanding to the concepts of unconditional love\, judgement\, and cooperation\nConsider how this individual shift in worldview shapes our collective consciousness and the collective timeline.\n\nParticipants will leave with an experience of multidimensional consciousness that can bring a greater sense of unconditional love and non-judgement to interactions with themselves and others. \nOur presenter:  \nRebecca Whitecotton is a modern-day philosopher—a wanna-be Socrates sitting on the digital steps of the internet Parthenon\, throwing out ideas about the nature of reality. The author of Pull Your Self Together: A True Story of Alternate Realities\, Spiritual Healing\, and Dimensional Wholeness\, Rebecca offers workshops and retreats about multidimensional thinking and connecting with alternate versions of yourself in the multiverse. Rebecca is also the award-winning children’s book author of Child of Mine\, Know This\, hailed by Neale Donald Walsch as “the single most imaginative children’s book to come along in ages.” \n\nLearn more at rebeccawhitecotton.com.
URL:https://janicecoyle.org/events/alternate-realities-and-living-in-fifth-dimensional-possibility-rebecca-whitecotton/
LOCATION:Zoom Call
CATEGORIES:Connecting with higher sources
ATTACH;FMTTYPE=image/jpeg:https://janicecoyle.org/wp-content/uploads/Rebecca-Whitecotton-photo450.450.jpg
END:VEVENT
BEGIN:VEVENT
DTSTART;TZID=America/New_York:20210921T190000
DTEND;TZID=America/New_York:20210921T210000
DTSTAMP:20260423T185609
CREATED:20210803T135146Z
LAST-MODIFIED:20210830T142335Z
UID:2234-1632250800-1632258000@janicecoyle.org
SUMMARY:Creating A New Earth Using Multidimensional Consciousness System - Nusra Sahin
DESCRIPTION:Our guest presenter\, Nusra Sahin\, is author of Multidimensional Consciousness and the New Earth – How to Master a Multidimensional Lifestyle.  She will join us from London\, England via a specially recorded interview with Janice Coyle. There is a possibility she may join us in person also. In this presentation\, Nusra will introduce us to the multidimensional consciousness system that she believes is a powerful way to train the modern-day masters who feel the call to take leading roles in the creation of a New Earth. \nShe has explored the potential of her natural abilities and connected with the higher layers of consciousness to receive direct training and guidance from the Ascended Masters and Archangels who are actively working with humanity to help bring a New Earth. During this training she has developed the Multidimensional Consciousness System and shared its main principles and some sample practices in her book. \nEach and every human being can activate their multidimensional nature\, and connect with the “source self” and cosmic collaborators for guidance\, manifestation\, healing and love.  Nusra is a lifelong mystic and experiencer of the multidimensional realms.  Her mission is to enable others to activate their multidimensional nature and access the higher realms to bring out their authentic abilities. \nSince the start of her project\, she has been guided by the spirit realm that humans should make their way up vertically in their consciousness and explore their abilities to lead the shift in the Planet Earth. \nThe mastery gained on this vertical journey through the layers of consciousness unleashes the potential for creation of a New Earth. She introduces her system and the energetic field that would help volunteers to rise through their multidimensional beings with support. \nIt is highly recommended that you read this book prior to this presentation.  It is a short book of 111 pages and is available at a nominal charge on Kindle via Amazon\, HERE. You can read it on your iPads\, Laptops and mobile phones. \nSome quotes from the book: \nMultidimensional Consciousness and the New Earth is a manual for the new humans called for by planet Earth. In this book\, I present a new system the “Multidimensional Consciousness System” that I created with my soul teacher Saint Germain and Archangel Uriel\, and introduce the “Multidimensional Consciousness Field” that we have created to assist and empower people in their ascension journeys. \nIn an era where the change is happening in consciousness\, only those who can consciously act in the higher dimensional layers as multidimensional beings can translate the light into existence. \nThese new individuals are the ones who will dream and invite the New Earth by just being who they are and self-expressing their true abilities. \nThe New Earth’s content will be created by the multidimensional collective who will be able to advance their abilities and vision even further ahead of the next phase. We must keep in mind that the Earth is the place of free will and it will stay so. Only a human being who acts out of his/her non-existence can dream a planet forward.  A group of multidimensional beings can do wonders.   \nWhoever is up for the journey\, it is time to live up to that responsibility with gratitude\, and shout at their ‘source self’: “Count me in!” \nTheme:  Creation of a New Earth through multidimensional consciousness studies \nGoal:    To enable the participants to activate their multidimensional nature\, connect with their “source self”\, and understand how they can have a leading role in the creation of a New Earth. \nOur Presenter  \n \nNusra Sahin\, Author\, Teacher\, Multidimensional Traveler \nWebsite:  Multidimensional Collective   HERE \nFacebook Group: Multidimensional Collective   HERE \nYouTube Channel:  Multidimensional Collective   HERE \nNusra Sahin is originally from Turkey where she studied eastern and western literary and graduated from Turkish Literature and Linguistics. She also was fascinated with quantum physics and  researched Quantum Aesthetics in films during her master’s course in Communication studies.  She immigrated to London\, England and began to write on consciousness.  In her twenties\, she began hearing a “voice” characterized by a unique vibration that felt loving.  Striving to know the source of this “voice” she discovered: “It was the voice of my source-self\, the authentic teacher who holds tremendous love\, compassion\, mastery and authority. It was me. As Rumi put it: it was the ‘wordless voice’. ….I accepted the direct training and guidance of my source-self and kept my Voice as my mentor. This decision was a big step in my training and in revealing my purpose on Earth. \nNusra now writes and offers workshops and free webinars to people interested in developing their multidimensional connections and guidance especially in bringing forth the New Earth.  Her higher dimensional sources also include Archangels and ascended Masters.
URL:https://janicecoyle.org/events/creating-a-new-earth-using-multidimensional-consciousness-system-nusra-sahin/
CATEGORIES:Connecting with higher sources
ATTACH;FMTTYPE=image/jpeg:https://janicecoyle.org/wp-content/uploads/Picture1-Nusra600600-crop-e1626706002646.jpg
END:VEVENT
BEGIN:VEVENT
DTSTART;TZID=America/New_York:20210817T190000
DTEND;TZID=America/New_York:20210817T210000
DTSTAMP:20260423T185609
CREATED:20210803T193303Z
LAST-MODIFIED:20210830T142447Z
UID:2242-1629226800-1629234000@janicecoyle.org
SUMMARY:Let's Raise Our Vibrations: Important Follow-Up - Janice Coyle & Mary Nelson
DESCRIPTION:This talk will expand your ideas about raising your vibrations and the urgent need to do this now in the times we are in. The good news is that we have universal dynamics and design helping us. We will describe new ways of thinking about all that is happening within and outside us. Janice and Mary will tell you about their own personal experiences in keeping calm amidst the chaos.  You will be told about the incredible results of letting go and trusting the benevolence of the creative and conscious forces called Source\, Higher Self\, God\, etc. \nWe are here at this time for a noble and healing opportunity – the opportunity of a millennia. You should be left with optimism\, expanded understanding and lots of ideas and insights. It is our goal to uplift your spirit and give you hope\, confidence and lots of resources. \n  \nOur Presenters: \n  \nJanice Coyle  \nJanice is a lifelong spiritual seeker who has met and learned from many spiritual teachers\, attended dozens of spiritual retreats and read hundreds of books on spiritual topics\, quantum physics\, philosophy\, history\, and ancient religions.  She is an ET contactee and has experienced many mystical and multidimensional episodes. For the past 7  years\, Janice  has regularly led spiritual study groups.  She has also been a high-school teacher\, a long-time business woman\, an editor\, published poet\, writer and speaker.  In 2020 she founded The New Earth Visioning Project. She is in the process of writing two books: a spiritual memoir and  Creating New Earth. \nMary Nelson \nMary is a licensed Life and Spiritual Coach with an undergraduate degree in psychology and masters in adult education. During her career as a consultant with Fortune 500 clients. Mary has trained managers and executives on communication skills. As a life and spiritual coach\, Mary works with people who want to know more about a spiritual journey or expand the one they are on through fun and interactive workshops and private sessions. Mary is also an award-winning speaker and writer and author of the award-winning book\, The Name Game. She lives in Steamboat Springs\, Colorado. \n 
URL:https://janicecoyle.org/events/raising-our-vibrations-important-follow-up-janice-coyle-mary-nelson/
LOCATION:Zoom Call
CATEGORIES:Connecting with higher sources,New Earth Visioning Project
ATTACH;FMTTYPE=image/png:https://janicecoyle.org/wp-content/uploads/Mary-and-me.png
END:VEVENT
END:VCALENDAR